BEGIN:VCALENDAR
VERSION:2.0
PRODID:-//SVP Luzern //NONSGML Events //EN
CALSCALE:GREGORIAN
X-WR-CALNAME:SVP Luzern
BEGIN:VEVENT
CREATED:20190321T113103Z
UID:13103
DTEND:20190403T210000
DTSTART:20190403T200000
DTSTAMP:20231024T055146Z
LOCATION:DV SVP Luzern in Schötz LU
DESCRIPTION:
SUMMARY:Vortrag von NR Werner Salzmann zum Thema «Waffenrecht»
ORGANIZER:
URL;VALUE=URI:https://www.svp-lu.ch/termine/vortrag-von-nr-werner-salzmann-zum-thema-waffenrecht/
TRANSP:OPAQUE
END:VEVENT
END:VCALENDAR
