BEGIN:VCALENDAR
VERSION:2.0
PRODID:-//SVP Luzern //NONSGML Events //EN
CALSCALE:GREGORIAN
X-WR-CALNAME:SVP Luzern
BEGIN:VEVENT
CREATED:20190516T092446Z
UID:13968
DTEND:20190519T160000
DTSTART:20190519T153000
DTSTAMP:20231024T055147Z
LOCATION:https://www.crazycactus.ch/
DESCRIPTION:Die Wahlfeier findet nach dieser erfolgreichen Wiederwahl in den Regie
SUMMARY:Wahlfeier 2. Wahlgang Regierungsrat
ORGANIZER:SVP Luzern
URL;VALUE=URI:https://www.svp-lu.ch/termine/wahlfeier-2-wahlgang-regierungsrat/
TRANSP:OPAQUE
END:VEVENT
END:VCALENDAR
