BEGIN:VCALENDAR
VERSION:2.0
PRODID:-//SVP Luzern //NONSGML Events //EN
CALSCALE:GREGORIAN
X-WR-CALNAME:SVP Luzern
BEGIN:VEVENT
CREATED:20190523T124517Z
UID:14005
DTEND:20190526T170000
DTSTART:20190525T090000
DTSTAMP:20231024T060131Z
LOCATION:Allmend Luzern
DESCRIPTION:
SUMMARY:Swiss Classic Car
ORGANIZER:JSVP & SVP Kanton LU
URL;VALUE=URI:https://www.svp-lu.ch/termine/swiss-classic-car/
TRANSP:OPAQUE
END:VEVENT
END:VCALENDAR
