BEGIN:VCALENDAR
VERSION:2.0
PRODID:-//SVP Luzern //NONSGML Events //EN
CALSCALE:GREGORIAN
X-WR-CALNAME:SVP Luzern
BEGIN:VEVENT
CREATED:20190528T173338Z
UID:14083
DTEND:20191117T000000
DTSTART:20191117T000000
DTSTAMP:20231024T055413Z
LOCATION:
DESCRIPTION:Ständeratswahlen: Allfälliger 2. Wahlgang am 17. November 2019
SUMMARY:2. Wahlgang Ständeratswahl
ORGANIZER:
URL;VALUE=URI:https://www.svp-lu.ch/termine/2-wahlgang-staenderatswahl/
TRANSP:OPAQUE
END:VEVENT
END:VCALENDAR
