BEGIN:VCALENDAR
VERSION:2.0
PRODID:-//SVP Luzern //NONSGML Events //EN
CALSCALE:GREGORIAN
X-WR-CALNAME:SVP Luzern
BEGIN:VEVENT
CREATED:20190607T153120Z
UID:14156
DTEND:20190625T200000
DTSTART:20190625T190000
DTSTAMP:20231024T060243Z
LOCATION:Vogelsang
DESCRIPTION:
SUMMARY:Geschäftsleitungssitzung
ORGANIZER:SVP Kanton Luzern
URL;VALUE=URI:https://www.svp-lu.ch/termine/geschaeftsleitungssitzung/
TRANSP:OPAQUE
END:VEVENT
END:VCALENDAR
