BEGIN:VCALENDAR
VERSION:2.0
PRODID:-//SVP Luzern //NONSGML Events //EN
CALSCALE:GREGORIAN
X-WR-CALNAME:SVP Luzern
BEGIN:VEVENT
CREATED:20190619T121105Z
UID:14215
DTEND:20190626T200000
DTSTART:20190626T193000
DTSTAMP:20231024T055411Z
LOCATION:Hotel Kreuz\, Luzernstr. 63\, 6102 Malters
DESCRIPTION:
SUMMARY:Sessionsrückblick mit NR Franz Grüter und NR Felix Müri
ORGANIZER:
URL;VALUE=URI:https://www.svp-lu.ch/termine/sessionsrueckblick-mit-nr-franz-grueter-und-nr-felix-mueri-2/
TRANSP:OPAQUE
END:VEVENT
END:VCALENDAR
