BEGIN:VCALENDAR
VERSION:2.0
PRODID:-//SVP Luzern //NONSGML Events //EN
CALSCALE:GREGORIAN
X-WR-CALNAME:SVP Luzern
BEGIN:VEVENT
CREATED:20190701T203917Z
UID:14336
DTEND:20190710T220000
DTSTART:20190710T190000
DTSTAMP:20231024T055105Z
LOCATION:Vogelsang\, Eich
DESCRIPTION:
SUMMARY:Kick-Off Wahlkommission NR/SR Wahlen
ORGANIZER:SVP Kanton Luzern
URL;VALUE=URI:https://www.svp-lu.ch/termine/kick-off-wahlkommission-nr-sr-wahlen/
TRANSP:OPAQUE
END:VEVENT
END:VCALENDAR
