BEGIN:VCALENDAR
VERSION:2.0
PRODID:-//SVP Luzern //NONSGML Events //EN
CALSCALE:GREGORIAN
X-WR-CALNAME:SVP Luzern
BEGIN:VEVENT
CREATED:20190723T092657Z
UID:14397
DTEND:20190801T130000
DTSTART:20190801T100000
DTSTAMP:20231024T060420Z
LOCATION:Musikpavillon Luzern (vor Hotel National)
DESCRIPTION:
SUMMARY:1. Augustfeier Stadt Luzern
ORGANIZER:SVP Kanton Luzern und Stadt Luzern
URL;VALUE=URI:https://www.svp-lu.ch/termine/1-augustfeier-stadt-luzern/
TRANSP:OPAQUE
END:VEVENT
END:VCALENDAR
