BEGIN:VCALENDAR
VERSION:2.0
PRODID:-//SVP Luzern //NONSGML Events //EN
CALSCALE:GREGORIAN
X-WR-CALNAME:SVP Luzern
BEGIN:VEVENT
CREATED:20190806T105913Z
UID:14641
DTEND:20190813T190000
DTSTART:20190813T183000
DTSTAMP:20231024T060247Z
LOCATION:Kriens\, Marco Frauenknecht
DESCRIPTION:
SUMMARY:GL Sitzung
ORGANIZER:
URL;VALUE=URI:https://www.svp-lu.ch/termine/gl-sitzung/
TRANSP:OPAQUE
END:VEVENT
END:VCALENDAR
