BEGIN:VCALENDAR
VERSION:2.0
PRODID:-//SVP Luzern //NONSGML Events //EN
CALSCALE:GREGORIAN
X-WR-CALNAME:SVP Luzern
BEGIN:VEVENT
CREATED:20190806T114832Z
UID:14643
DTEND:20190903T213000
DTSTART:20190903T190000
DTSTAMP:20231024T054903Z
LOCATION:Aula Hofmatt 3\, Meggen
DESCRIPTION:
SUMMARY:Frauen machen Politik
ORGANIZER:
URL;VALUE=URI:https://www.svp-lu.ch/termine/frauen-machen-politik/
TRANSP:OPAQUE
END:VEVENT
END:VCALENDAR
