BEGIN:VCALENDAR
VERSION:2.0
PRODID:-//SVP Luzern //NONSGML Events //EN
CALSCALE:GREGORIAN
X-WR-CALNAME:SVP Luzern
BEGIN:VEVENT
CREATED:20190814T173723Z
UID:14846
DTEND:20190822T173000
DTSTART:20190822T160000
DTSTAMP:20231024T060346Z
LOCATION:Amt für Gemeinden Luzern
DESCRIPTION:
SUMMARY:Listenabgabe Wahlen 2019
ORGANIZER:SVP Kanton Luzern
URL;VALUE=URI:https://www.svp-lu.ch/termine/listenabgabe-wahlen-2019/
TRANSP:OPAQUE
END:VEVENT
END:VCALENDAR
