BEGIN:VCALENDAR
VERSION:2.0
PRODID:-//SVP Luzern //NONSGML Events //EN
CALSCALE:GREGORIAN
X-WR-CALNAME:SVP Luzern
BEGIN:VEVENT
CREATED:20190922T093642Z
UID:15746
DTEND:20191005T140000
DTSTART:20191005T093000
DTSTAMP:20231024T055107Z
LOCATION:Vor der Hauptpost beim Bahnhof Luzern
DESCRIPTION: Kaffee/Gipfeli Getränke/Apéro Standaktion 
SUMMARY:SVP on Tour vor der Hauptpost
ORGANIZER:SVP Luzern
URL;VALUE=URI:https://www.svp-lu.ch/termine/svp-on-tour-vor-der-hauptpost/
TRANSP:OPAQUE
END:VEVENT
END:VCALENDAR
