BEGIN:VCALENDAR
VERSION:2.0
PRODID:-//SVP Luzern //NONSGML Events //EN
CALSCALE:GREGORIAN
X-WR-CALNAME:SVP Luzern
BEGIN:VEVENT
CREATED:20190924T065041Z
UID:15751
DTEND:20191002T220000
DTSTART:20191002T200000
DTSTAMP:20231024T060437Z
LOCATION:FläckeKafi\, Beromünster
DESCRIPTION:
SUMMARY:Sessionsrückblick September
ORGANIZER:SVP Beromünster
URL;VALUE=URI:https://www.svp-lu.ch/termine/sessionsrueckblick-september/
TRANSP:OPAQUE
END:VEVENT
END:VCALENDAR
