BEGIN:VCALENDAR
VERSION:2.0
PRODID:-//SVP Luzern //NONSGML Events //EN
CALSCALE:GREGORIAN
X-WR-CALNAME:SVP Luzern
BEGIN:VEVENT
CREATED:20190925T101009Z
UID:15770
DTEND:20191025T180000
DTSTART:20191025T170000
DTSTAMP:20231024T055615Z
LOCATION:Josef Kunz\, Schlössli\, Grosswangen
DESCRIPTION:
SUMMARY:Donatorenanlass WK Sursee
ORGANIZER:SVP WK Sursee
URL;VALUE=URI:https://www.svp-lu.ch/termine/donatorenanlass-wk-sursee/
TRANSP:OPAQUE
END:VEVENT
END:VCALENDAR
