BEGIN:VCALENDAR
VERSION:2.0
PRODID:-//SVP Luzern //NONSGML Events //EN
CALSCALE:GREGORIAN
X-WR-CALNAME:SVP Luzern
BEGIN:VEVENT
CREATED:20191010T145400Z
UID:15999
DTEND:20191127T180000
DTSTART:20191127T140000
DTSTAMP:20231024T054942Z
LOCATION:Stiftung für Schwerbehinderte Luzern SSBL
DESCRIPTION:
SUMMARY:Fraktionssitzung KR Luzern
ORGANIZER:WKP Hochdorf
URL;VALUE=URI:https://www.svp-lu.ch/termine/fraktionssitzung-kr-luzern/
TRANSP:OPAQUE
END:VEVENT
END:VCALENDAR
