BEGIN:VCALENDAR
VERSION:2.0
PRODID:-//SVP Luzern //NONSGML Events //EN
CALSCALE:GREGORIAN
X-WR-CALNAME:SVP Luzern
BEGIN:VEVENT
CREATED:20191029T094927Z
UID:16092
DTEND:20200101T000000
DTSTART:20200101T000000
DTSTAMP:20231024T055312Z
LOCATION:
DESCRIPTION:
SUMMARY:Neujahrstag
ORGANIZER:
URL;VALUE=URI:https://www.svp-lu.ch/termine/neujahrstag-2/
TRANSP:OPAQUE
END:VEVENT
END:VCALENDAR
