BEGIN:VCALENDAR
VERSION:2.0
PRODID:-//SVP Luzern //NONSGML Events //EN
CALSCALE:GREGORIAN
X-WR-CALNAME:SVP Luzern
BEGIN:VEVENT
CREATED:20191029T094927Z
UID:16094
DTEND:20200206T000000
DTSTART:20200206T000000
DTSTAMP:20231024T055533Z
LOCATION:Rest. Vogelsang\, Eich
DESCRIPTION:
SUMMARY:Sitzung Parteileitung 2020/01
ORGANIZER:
URL;VALUE=URI:https://www.svp-lu.ch/termine/sitzung-parteileitung-2018-03/
TRANSP:OPAQUE
END:VEVENT
END:VCALENDAR
