BEGIN:VCALENDAR
VERSION:2.0
PRODID:-//SVP Luzern //NONSGML Events //EN
CALSCALE:GREGORIAN
X-WR-CALNAME:SVP Luzern
BEGIN:VEVENT
CREATED:20191029T094927Z
UID:16095
DTEND:20200315T000000
DTSTART:20200110T000000
DTSTAMP:20231024T055635Z
LOCATION:Horn TG
DESCRIPTION:
SUMMARY:„Bad Horn“-Tagung
ORGANIZER:
URL;VALUE=URI:https://www.svp-lu.ch/termine/bad-horn-tagung-2/
TRANSP:OPAQUE
END:VEVENT
END:VCALENDAR
