BEGIN:VCALENDAR
VERSION:2.0
PRODID:-//SVP Luzern //NONSGML Events //EN
CALSCALE:GREGORIAN
X-WR-CALNAME:SVP Luzern
BEGIN:VEVENT
CREATED:20191029T094927Z
UID:16096
DTEND:20200111T000000
DTSTART:20200111T000000
DTSTAMP:20231024T055944Z
LOCATION:
DESCRIPTION:
SUMMARY:Redaktionsschluss „SVP NEWS“
ORGANIZER:
URL;VALUE=URI:https://www.svp-lu.ch/termine/redaktionsschluss-svp-news/
TRANSP:OPAQUE
END:VEVENT
END:VCALENDAR
