BEGIN:VCALENDAR
VERSION:2.0
PRODID:-//SVP Luzern //NONSGML Events //EN
CALSCALE:GREGORIAN
X-WR-CALNAME:SVP Luzern
BEGIN:VEVENT
CREATED:20191029T094927Z
UID:16097
DTEND:20200114T000000
DTSTART:20200114T000000
DTSTAMP:20231024T055749Z
LOCATION:
DESCRIPTION:
SUMMARY:GL-Sitzung 2020/01
ORGANIZER:
URL;VALUE=URI:https://www.svp-lu.ch/termine/gl-sitzung-2018-05/
TRANSP:OPAQUE
END:VEVENT
END:VCALENDAR
