BEGIN:VCALENDAR
VERSION:2.0
PRODID:-//SVP Luzern //NONSGML Events //EN
CALSCALE:GREGORIAN
X-WR-CALNAME:SVP Luzern
BEGIN:VEVENT
CREATED:20191029T094927Z
UID:16099
DTEND:20200116T000000
DTSTART:20200116T000000
DTSTAMP:20231024T055850Z
LOCATION:Restaurant Kloster\, Oberdorf\, 6106 Werthenstein
DESCRIPTION:
SUMMARY:Kant. Delegiertenversammlung
ORGANIZER:OP Wertenstein
URL;VALUE=URI:https://www.svp-lu.ch/termine/kant-delegiertenversammlung-6/
TRANSP:OPAQUE
END:VEVENT
END:VCALENDAR
