BEGIN:VCALENDAR
VERSION:2.0
PRODID:-//SVP Luzern //NONSGML Events //EN
CALSCALE:GREGORIAN
X-WR-CALNAME:SVP Luzern
BEGIN:VEVENT
CREATED:20191029T094927Z
UID:16100
DTEND:20200122T000000
DTSTART:20200122T000000
DTSTAMP:20231024T060323Z
LOCATION:WK Entlebuch
DESCRIPTION:
SUMMARY:Kant. Fraktionssitzung
ORGANIZER:
URL;VALUE=URI:https://www.svp-lu.ch/termine/kant-fraktionssitzung-8/
TRANSP:OPAQUE
END:VEVENT
END:VCALENDAR
