BEGIN:VCALENDAR
VERSION:2.0
PRODID:-//SVP Luzern //NONSGML Events //EN
CALSCALE:GREGORIAN
X-WR-CALNAME:SVP Luzern
BEGIN:VEVENT
CREATED:20191029T094928Z
UID:16104
DTEND:20200125T000000
DTSTART:20200125T000000
DTSTAMP:20231024T055636Z
LOCATION:Kanton Uri\, Seedorf
DESCRIPTION:
SUMMARY:Eidg. Delegiertenversammlung
ORGANIZER:
URL;VALUE=URI:https://www.svp-lu.ch/termine/eidg-delegiertenversammlung-5/
TRANSP:OPAQUE
END:VEVENT
END:VCALENDAR
