BEGIN:VCALENDAR
VERSION:2.0
PRODID:-//SVP Luzern //NONSGML Events //EN
CALSCALE:GREGORIAN
X-WR-CALNAME:SVP Luzern
BEGIN:VEVENT
CREATED:20191029T094928Z
UID:16109
DTEND:20200209T000000
DTSTART:20200209T000000
DTSTAMP:20231024T054935Z
LOCATION:
DESCRIPTION:
SUMMARY:Eidg. und Kant. Abstimmungen
ORGANIZER:
URL;VALUE=URI:https://www.svp-lu.ch/termine/eidg-und-kant-abstimmungen-5/
TRANSP:OPAQUE
END:VEVENT
END:VCALENDAR
