BEGIN:VCALENDAR
VERSION:2.0
PRODID:-//SVP Luzern //NONSGML Events //EN
CALSCALE:GREGORIAN
X-WR-CALNAME:SVP Luzern
BEGIN:VEVENT
CREATED:20191029T094928Z
UID:16113
DTEND:20200118T130000
DTSTART:20200118T100000
DTSTAMP:20231024T055248Z
LOCATION:Gemeindezentrum Schenkon
DESCRIPTION:Einladung_Kadertagung_2020-18-01
SUMMARY:Kadertagung 2. Teil SVP Kanton Luzern
ORGANIZER:
URL;VALUE=URI:https://www.svp-lu.ch/termine/kadertagung-svp-kanton-luzern-2/
TRANSP:OPAQUE
END:VEVENT
END:VCALENDAR
