BEGIN:VCALENDAR
VERSION:2.0
PRODID:-//SVP Luzern //NONSGML Events //EN
CALSCALE:GREGORIAN
X-WR-CALNAME:SVP Luzern
BEGIN:VEVENT
CREATED:20191029T094928Z
UID:16116
DTEND:20200222T160000
DTSTART:20200222T094500
DTSTAMP:20231024T055122Z
LOCATION:MZH\, Stumpenmatt-Muotathal (SZ)
DESCRIPTION:https://www.svp.ch/news/svp-jasscup/
SUMMARY:SVP-Jasscup
ORGANIZER:SVP Kanton URI
URL;VALUE=URI:https://www.svp-lu.ch/termine/svp-jasscup-2/
TRANSP:OPAQUE
END:VEVENT
END:VCALENDAR
