BEGIN:VCALENDAR
VERSION:2.0
PRODID:-//SVP Luzern //NONSGML Events //EN
CALSCALE:GREGORIAN
X-WR-CALNAME:SVP Luzern
BEGIN:VEVENT
CREATED:20191029T094928Z
UID:16118
DTEND:20200226T000000
DTSTART:20200226T000000
DTSTAMP:20231024T055915Z
LOCATION:
DESCRIPTION:
SUMMARY:Aschermittwoch
ORGANIZER:
URL;VALUE=URI:https://www.svp-lu.ch/termine/aschermittwoch-2/
TRANSP:OPAQUE
END:VEVENT
END:VCALENDAR
