BEGIN:VCALENDAR
VERSION:2.0
PRODID:-//SVP Luzern //NONSGML Events //EN
CALSCALE:GREGORIAN
X-WR-CALNAME:SVP Luzern
BEGIN:VEVENT
CREATED:20191029T094929Z
UID:16121
DTEND:20200302T180000
DTSTART:20200302T170000
DTSTAMP:20231024T060332Z
LOCATION:b2000
DESCRIPTION:
SUMMARY:GL-Sitzung 2020/03
ORGANIZER:
URL;VALUE=URI:https://www.svp-lu.ch/termine/gl-sitzung-2018-12/
TRANSP:OPAQUE
END:VEVENT
END:VCALENDAR
