BEGIN:VCALENDAR
VERSION:2.0
PRODID:-//SVP Luzern //NONSGML Events //EN
CALSCALE:GREGORIAN
X-WR-CALNAME:SVP Luzern
BEGIN:VEVENT
CREATED:20191029T094929Z
UID:16123
DTEND:20200310T000000
DTSTART:20200310T000000
DTSTAMP:20231024T054918Z
LOCATION:Bern
DESCRIPTION:
SUMMARY:Treffen SVP-Bundeshausfraktion mit den kantonalen Fraktionspräsidenten
ORGANIZER:
URL;VALUE=URI:https://www.svp-lu.ch/termine/treffen-svp-bundeshausfraktion-mit-den-kantonalen-fraktionspraesidenten-2/
TRANSP:OPAQUE
END:VEVENT
END:VCALENDAR
