BEGIN:VCALENDAR
VERSION:2.0
PRODID:-//SVP Luzern //NONSGML Events //EN
CALSCALE:GREGORIAN
X-WR-CALNAME:SVP Luzern
BEGIN:VEVENT
CREATED:20191029T094929Z
UID:16124
DTEND:20200311T180000
DTSTART:20200311T140000
DTSTAMP:20231024T055213Z
LOCATION:swissporarena\, Medienzentrum
DESCRIPTION:
SUMMARY:Kant. Fraktionssitzung
ORGANIZER:WK Stadt Luzern
URL;VALUE=URI:https://www.svp-lu.ch/termine/kant-fraktionssitzung-9/
TRANSP:OPAQUE
END:VEVENT
END:VCALENDAR
