BEGIN:VCALENDAR
VERSION:2.0
PRODID:-//SVP Luzern //NONSGML Events //EN
CALSCALE:GREGORIAN
X-WR-CALNAME:SVP Luzern
BEGIN:VEVENT
CREATED:20191029T094929Z
UID:16126
DTEND:20200312T000000
DTSTART:20200312T000000
DTSTAMP:20231024T060211Z
LOCATION:
DESCRIPTION:
SUMMARY:Grossstadtratssitzung Luzern
ORGANIZER:
URL;VALUE=URI:https://www.svp-lu.ch/termine/grossstadtratssitzung-luzern-16/
TRANSP:OPAQUE
END:VEVENT
END:VCALENDAR
