BEGIN:VCALENDAR
VERSION:2.0
PRODID:-//SVP Luzern //NONSGML Events //EN
CALSCALE:GREGORIAN
X-WR-CALNAME:SVP Luzern
BEGIN:VEVENT
CREATED:20191029T094929Z
UID:16128
DTEND:20200316T000000
DTSTART:20200316T000000
DTSTAMP:20231024T055523Z
LOCATION:Bern
DESCRIPTION:
SUMMARY:Treffen Bundesrichter
ORGANIZER:
URL;VALUE=URI:https://www.svp-lu.ch/termine/treffen-bundesrichter-2/
TRANSP:OPAQUE
END:VEVENT
END:VCALENDAR
