BEGIN:VCALENDAR
VERSION:2.0
PRODID:-//SVP Luzern //NONSGML Events //EN
CALSCALE:GREGORIAN
X-WR-CALNAME:SVP Luzern
BEGIN:VEVENT
CREATED:20191029T094929Z
UID:16131
DTEND:20200327T000000
DTSTART:20200327T000000
DTSTAMP:20231024T055348Z
LOCATION:
DESCRIPTION:
SUMMARY:Abgesagt Parteileitung/Parteivorstand mit Sekretären
ORGANIZER:
URL;VALUE=URI:https://www.svp-lu.ch/termine/parteileitung-parteivorstand-mit-sekretaeren-7/
TRANSP:OPAQUE
END:VEVENT
END:VCALENDAR
