BEGIN:VCALENDAR
VERSION:2.0
PRODID:-//SVP Luzern //NONSGML Events //EN
CALSCALE:GREGORIAN
X-WR-CALNAME:SVP Luzern
BEGIN:VEVENT
CREATED:20191029T094929Z
UID:16132
DTEND:20200328T000000
DTSTART:20200328T000000
DTSTAMP:20231024T055554Z
LOCATION:
DESCRIPTION:
SUMMARY:ABGESAGT! Delegiertenversammlung
ORGANIZER:
URL;VALUE=URI:https://www.svp-lu.ch/termine/eidg-delegiertenversammlung-6/
TRANSP:OPAQUE
END:VEVENT
END:VCALENDAR
