BEGIN:VCALENDAR
VERSION:2.0
PRODID:-//SVP Luzern //NONSGML Events //EN
CALSCALE:GREGORIAN
X-WR-CALNAME:SVP Luzern
BEGIN:VEVENT
CREATED:20191029T094929Z
UID:16134
DTEND:20200329T000000
DTSTART:20200329T000000
DTSTAMP:20231024T055513Z
LOCATION:
DESCRIPTION:
SUMMARY:Gemeindewahlen / Abstimmungen
ORGANIZER:
URL;VALUE=URI:https://www.svp-lu.ch/termine/gemeindewahlen-abstimmungen/
TRANSP:OPAQUE
END:VEVENT
END:VCALENDAR
