BEGIN:VCALENDAR
VERSION:2.0
PRODID:-//SVP Luzern //NONSGML Events //EN
CALSCALE:GREGORIAN
X-WR-CALNAME:SVP Luzern
BEGIN:VEVENT
CREATED:20191029T094929Z
UID:16135
DTEND:20200402T000000
DTSTART:20200402T000000
DTSTAMP:20231024T055006Z
LOCATION:
DESCRIPTION:
SUMMARY:Abgesagt Grossstadtratssitzung Luzern
ORGANIZER:
URL;VALUE=URI:https://www.svp-lu.ch/termine/grossstadtratssitzung-luzern-17/
TRANSP:OPAQUE
END:VEVENT
END:VCALENDAR
