BEGIN:VCALENDAR
VERSION:2.0
PRODID:-//SVP Luzern //NONSGML Events //EN
CALSCALE:GREGORIAN
X-WR-CALNAME:SVP Luzern
BEGIN:VEVENT
CREATED:20191029T094929Z
UID:16137
DTEND:20200405T000000
DTSTART:20200405T000000
DTSTAMP:20231024T060151Z
LOCATION:
DESCRIPTION:
SUMMARY:Palmsonntag
ORGANIZER:
URL;VALUE=URI:https://www.svp-lu.ch/termine/palmsonntag-2/
TRANSP:OPAQUE
END:VEVENT
END:VCALENDAR
