BEGIN:VCALENDAR
VERSION:2.0
PRODID:-//SVP Luzern //NONSGML Events //EN
CALSCALE:GREGORIAN
X-WR-CALNAME:SVP Luzern
BEGIN:VEVENT
CREATED:20191029T094930Z
UID:16138
DTEND:20200414T000000
DTSTART:20200414T000000
DTSTAMP:20231024T060347Z
LOCATION:
DESCRIPTION:
SUMMARY:Abgesagt GL-Sitzung 2020/04
ORGANIZER:
URL;VALUE=URI:https://www.svp-lu.ch/termine/gl-sitzung-2020-01/
TRANSP:OPAQUE
END:VEVENT
END:VCALENDAR
