BEGIN:VCALENDAR
VERSION:2.0
PRODID:-//SVP Luzern //NONSGML Events //EN
CALSCALE:GREGORIAN
X-WR-CALNAME:SVP Luzern
BEGIN:VEVENT
CREATED:20191029T094930Z
UID:16143
DTEND:20200412T000000
DTSTART:20200412T000000
DTSTAMP:20231024T055312Z
LOCATION:
DESCRIPTION:
SUMMARY:Ostern
ORGANIZER:
URL;VALUE=URI:https://www.svp-lu.ch/termine/ostern-2/
TRANSP:OPAQUE
END:VEVENT
END:VCALENDAR
