BEGIN:VCALENDAR
VERSION:2.0
PRODID:-//SVP Luzern //NONSGML Events //EN
CALSCALE:GREGORIAN
X-WR-CALNAME:SVP Luzern
BEGIN:VEVENT
CREATED:20191029T094930Z
UID:16145
DTEND:20200423T000000
DTSTART:20200423T000000
DTSTAMP:20231024T055100Z
LOCATION:work @ home
DESCRIPTION:Die PL-Sitzung wird online durchgeführt
SUMMARY:ONLINE Sitzung Parteileitung 2020/02
ORGANIZER:
URL;VALUE=URI:https://www.svp-lu.ch/termine/sitzung-parteileitung-2020-02/
TRANSP:OPAQUE
END:VEVENT
END:VCALENDAR
