BEGIN:VCALENDAR
VERSION:2.0
PRODID:-//SVP Luzern //NONSGML Events //EN
CALSCALE:GREGORIAN
X-WR-CALNAME:SVP Luzern
BEGIN:VEVENT
CREATED:20191029T094930Z
UID:16146
DTEND:20200508T000000
DTSTART:20200504T000000
DTSTAMP:20231024T054951Z
LOCATION:Bern
DESCRIPTION:
SUMMARY:Evt. Sondersession National- und Ständerat
ORGANIZER:
URL;VALUE=URI:https://www.svp-lu.ch/termine/evt-sondersession-national-und-staenderat-2/
TRANSP:OPAQUE
END:VEVENT
END:VCALENDAR
