BEGIN:VCALENDAR
VERSION:2.0
PRODID:-//SVP Luzern //NONSGML Events //EN
CALSCALE:GREGORIAN
X-WR-CALNAME:SVP Luzern
BEGIN:VEVENT
CREATED:20191029T094930Z
UID:16147
DTEND:20200506T000000
DTSTART:20200506T000000
DTSTAMP:20231024T060418Z
LOCATION:Online\, work@home
DESCRIPTION:
SUMMARY:Kant. Fraktionssitzung
ORGANIZER:
URL;VALUE=URI:https://www.svp-lu.ch/termine/kant-fraktionssitzung-10/
TRANSP:OPAQUE
END:VEVENT
END:VCALENDAR
