BEGIN:VCALENDAR
VERSION:2.0
PRODID:-//SVP Luzern //NONSGML Events //EN
CALSCALE:GREGORIAN
X-WR-CALNAME:SVP Luzern
BEGIN:VEVENT
CREATED:20191029T094930Z
UID:16152
DTEND:20200512T000000
DTSTART:20200511T000000
DTSTAMP:20231024T055928Z
LOCATION:Messe Luzern
DESCRIPTION:
SUMMARY:Session Kantonsrat
ORGANIZER:
URL;VALUE=URI:https://www.svp-lu.ch/termine/session-kantonsrat-14/
TRANSP:OPAQUE
END:VEVENT
END:VCALENDAR
