BEGIN:VCALENDAR
VERSION:2.0
PRODID:-//SVP Luzern //NONSGML Events //EN
CALSCALE:GREGORIAN
X-WR-CALNAME:SVP Luzern
BEGIN:VEVENT
CREATED:20191029T094930Z
UID:16154
DTEND:20200514T000000
DTSTART:20200514T000000
DTSTAMP:20231024T060427Z
LOCATION:WK Sursee
DESCRIPTION:Die kantonale Generalversammlung findet neu am Samstag 29. August stat
SUMMARY:Verschoben! Kantonale Generalversammlung
ORGANIZER:
URL;VALUE=URI:https://www.svp-lu.ch/termine/kant-generalversammlung-2/
TRANSP:OPAQUE
END:VEVENT
END:VCALENDAR
