BEGIN:VCALENDAR
VERSION:2.0
PRODID:-//SVP Luzern //NONSGML Events //EN
CALSCALE:GREGORIAN
X-WR-CALNAME:SVP Luzern
BEGIN:VEVENT
CREATED:20191029T094931Z
UID:16156
DTEND:20200628T000000
DTSTART:20200628T000000
DTSTAMP:20231024T055215Z
LOCATION:
DESCRIPTION:
SUMMARY:NEU 2. Wahlgang Gemeindewahlen / Abstimmungen
ORGANIZER:
URL;VALUE=URI:https://www.svp-lu.ch/termine/2-wahlgang-gemeindewahlen-abstimmungen/
TRANSP:OPAQUE
END:VEVENT
END:VCALENDAR
