BEGIN:VCALENDAR
VERSION:2.0
PRODID:-//SVP Luzern //NONSGML Events //EN
CALSCALE:GREGORIAN
X-WR-CALNAME:SVP Luzern
BEGIN:VEVENT
CREATED:20191029T094931Z
UID:16158
DTEND:20200524T000000
DTSTART:20200521T000000
DTSTAMP:20231024T060125Z
LOCATION:
DESCRIPTION:
SUMMARY:Schulferien Kanton Luzern
ORGANIZER:
URL;VALUE=URI:https://www.svp-lu.ch/termine/schulferien-kanton-luzern-11/
TRANSP:OPAQUE
END:VEVENT
END:VCALENDAR
