BEGIN:VCALENDAR
VERSION:2.0
PRODID:-//SVP Luzern //NONSGML Events //EN
CALSCALE:GREGORIAN
X-WR-CALNAME:SVP Luzern
BEGIN:VEVENT
CREATED:20191029T094931Z
UID:16161
DTEND:20200601T000000
DTSTART:20200601T000000
DTSTAMP:20231024T055223Z
LOCATION:
DESCRIPTION:
SUMMARY:Pfingstmontag
ORGANIZER:
URL;VALUE=URI:https://www.svp-lu.ch/termine/pfingstmontag-2/
TRANSP:OPAQUE
END:VEVENT
END:VCALENDAR
