BEGIN:VCALENDAR
VERSION:2.0
PRODID:-//SVP Luzern //NONSGML Events //EN
CALSCALE:GREGORIAN
X-WR-CALNAME:SVP Luzern
BEGIN:VEVENT
CREATED:20191029T094931Z
UID:16165
DTEND:20200610T000000
DTSTART:20200610T000000
DTSTAMP:20231024T055735Z
LOCATION:
DESCRIPTION:
SUMMARY:Fraktionsausflug SVP Schweiz
ORGANIZER:
URL;VALUE=URI:https://www.svp-lu.ch/termine/fraktionsausflug-svp-schweiz-2/
TRANSP:OPAQUE
END:VEVENT
END:VCALENDAR
