BEGIN:VCALENDAR
VERSION:2.0
PRODID:-//SVP Luzern //NONSGML Events //EN
CALSCALE:GREGORIAN
X-WR-CALNAME:SVP Luzern
BEGIN:VEVENT
CREATED:20191029T094931Z
UID:16172
DTEND:20200625T000000
DTSTART:20200625T000000
DTSTAMP:20231024T060021Z
LOCATION:
DESCRIPTION:
SUMMARY:Grossstadtratssitzung Luzern
ORGANIZER:
URL;VALUE=URI:https://www.svp-lu.ch/termine/grossstadtratssitzung-luzern-20/
TRANSP:OPAQUE
END:VEVENT
END:VCALENDAR
