BEGIN:VCALENDAR
VERSION:2.0
PRODID:-//SVP Luzern //NONSGML Events //EN
CALSCALE:GREGORIAN
X-WR-CALNAME:SVP Luzern
BEGIN:VEVENT
CREATED:20191029T094931Z
UID:16173
DTEND:20200714T160000
DTSTART:20200714T150000
DTSTAMP:20231024T055458Z
LOCATION:Vogelsang
DESCRIPTION:
SUMMARY:GL-Sitzung 2020/07
ORGANIZER:
URL;VALUE=URI:https://www.svp-lu.ch/termine/gl-sitzung-2020-04/
TRANSP:OPAQUE
END:VEVENT
END:VCALENDAR
